BEGIN:VCALENDAR
VERSION:2.0
PRODID:-//City of Rogersville MO - ECPv6.15.20//NONSGML v1.0//EN
CALSCALE:GREGORIAN
METHOD:PUBLISH
X-WR-CALNAME:City of Rogersville MO
X-ORIGINAL-URL:https://www.rogersvillemo.org
X-WR-CALDESC:Events for City of Rogersville MO
REFRESH-INTERVAL;VALUE=DURATION:PT1H
X-Robots-Tag:noindex
X-PUBLISHED-TTL:PT1H
BEGIN:VTIMEZONE
TZID:UTC
BEGIN:STANDARD
TZOFFSETFROM:+0000
TZOFFSETTO:+0000
TZNAME:UTC
DTSTART:20180101T000000
END:STANDARD
END:VTIMEZONE
BEGIN:VEVENT
DTSTART;TZID=UTC:20240316T100000
DTEND;TZID=UTC:20240316T130000
DTSTAMP:20260424T152432
CREATED:20240314T220838Z
LAST-MODIFIED:20240314T221618Z
UID:3278-1710583200-1710594000@www.rogersvillemo.org
SUMMARY:Machine Madness
DESCRIPTION:⛟ Come see magnificent machines at Machine Madness! ⛟
URL:https://www.rogersvillemo.org/event/machine-madness/
LOCATION:City of Rogersville\, 211 East Center\, Rogersville\, MO\, 65742\, United States
ATTACH;FMTTYPE=image/jpeg:https://www.rogersvillemo.org/wp-content/uploads/2024/03/421561297_248817288257490_6849496162690986115_n.jpg
ORGANIZER;CN="Parks and Recreation":MAILTO:krobertson@rogersvillemo.org
END:VEVENT
BEGIN:VEVENT
DTSTART;TZID=UTC:20240126T180000
DTEND;TZID=UTC:20240126T190000
DTSTAMP:20260424T152432
CREATED:20240108T230843Z
LAST-MODIFIED:20240108T230843Z
UID:3030-1706292000-1706295600@www.rogersvillemo.org
SUMMARY:ROGERSVILLE RANGERS - WINTER HIKE PREPAREDNESS
DESCRIPTION:
URL:https://www.rogersvillemo.org/event/rogersville-rangers-winter-hike-preparedness/
LOCATION:FEMA Building\, 101 W Basin St\, Rogersville\, 65742\, United States
ORGANIZER;CN="Parks and Recreation":MAILTO:krobertson@rogersvillemo.org
END:VEVENT
BEGIN:VEVENT
DTSTART;TZID=UTC:20240120T100000
DTEND;TZID=UTC:20240120T110000
DTSTAMP:20260424T152432
CREATED:20240108T230715Z
LAST-MODIFIED:20240108T230715Z
UID:3028-1705744800-1705748400@www.rogersvillemo.org
SUMMARY:ART IN THE PARK (5 TO 12 YEAR OLD CLASS)
DESCRIPTION:RONALD HORTON_AITP REG FORM_JAN2024
URL:https://www.rogersvillemo.org/event/art-in-the-park-5-to-12-year-old-class/
LOCATION:FEMA Building\, 101 W Basin St\, Rogersville\, 65742\, United States
ORGANIZER;CN="Parks and Recreation":MAILTO:krobertson@rogersvillemo.org
END:VEVENT
BEGIN:VEVENT
DTSTART;TZID=UTC:20240116T100000
DTEND;TZID=UTC:20240116T110000
DTSTAMP:20260424T152432
CREATED:20240108T230621Z
LAST-MODIFIED:20240108T230621Z
UID:3023-1705399200-1705402800@www.rogersvillemo.org
SUMMARY:ART IN THE PARK - WINTER CRAFTS (2-5 YEAR OLD CLASS)
DESCRIPTION:RONALD HORTON_AITP REG FORM_JAN2024
URL:https://www.rogersvillemo.org/event/art-in-the-park-winter-crafts-2-5-year-old-class/
LOCATION:FEMA Building\, 101 W Basin St\, Rogersville\, 65742\, United States
ORGANIZER;CN="Parks and Recreation":MAILTO:krobertson@rogersvillemo.org
END:VEVENT
BEGIN:VEVENT
DTSTART;VALUE=DATE:20190824
DTEND;VALUE=DATE:20190825
DTSTAMP:20260424T152432
CREATED:20190414T212309Z
LAST-MODIFIED:20190414T212309Z
UID:1031-1566604800-1566691199@www.rogersvillemo.org
SUMMARY:Fall Volleyball T-Shirt Deadline
DESCRIPTION:City Parks Department Sponsorships! \nHave your business logo printed on hundreds of t-shirts! \nFor $100 per spot\, per season\, you can advertise on the back of the team shirts for Spring and Fall Soccer\, Summer Ball\, Basketball and Volleyball!  (spaces are limited) \nKids and Coaches shirts! \nOngoing advertising for years to come! \nContact City Hall today!  417-753-2884 ext. 300 or 321 \nDownload Tshirt sponsors sport selection sheet
URL:https://www.rogersvillemo.org/event/fall-volleyball-t-shirt-deadline/
LOCATION:City of Rogersville\, 211 East Center\, Rogersville\, MO\, 65742\, United States
ATTACH;FMTTYPE=image/png:https://www.rogersvillemo.org/wp-content/uploads/2019/04/tshirt-deadlines-1.png
END:VEVENT
BEGIN:VEVENT
DTSTART;VALUE=DATE:20190824
DTEND;VALUE=DATE:20190825
DTSTAMP:20260424T152432
CREATED:20190414T211922Z
LAST-MODIFIED:20190414T212137Z
UID:1026-1566604800-1566691199@www.rogersvillemo.org
SUMMARY:Fall Soccer T-Shirt Deadline
DESCRIPTION:City Parks Department Sponsorships! \nHave your business logo printed on hundreds of t-shirts! \nFor $100 per spot\, per season\, you can advertise on the back of the team shirts for Spring and Fall Soccer\, Summer Ball\, Basketball and Volleyball!  (spaces are limited) \nKids and Coaches shirts! \nOngoing advertising for years to come! \nContact City Hall today!  417-753-2884 ext. 300 or 321 \nDownload Tshirt sponsors sport selection sheet
URL:https://www.rogersvillemo.org/event/fall-soccer-t-shirt-deadline/
LOCATION:City of Rogersville\, 211 East Center\, Rogersville\, MO\, 65742\, United States
ATTACH;FMTTYPE=image/png:https://www.rogersvillemo.org/wp-content/uploads/2019/04/tshirt-deadlines-1.png
END:VEVENT
BEGIN:VEVENT
DTSTART;TZID=UTC:20190614T070000
DTEND;TZID=UTC:20190614T150000
DTSTAMP:20260424T152432
CREATED:20190414T201947Z
LAST-MODIFIED:20190414T201947Z
UID:1003-1560495600-1560524400@www.rogersvillemo.org
SUMMARY:City Wide Clean Up
DESCRIPTION:Cleanout your house\, basement\, shed\, attic\, carport or whatever you have! The dumpster will be located behind city hall. \nItems not allowed: \n\nHazardous waste\nWhole tires\nYard waste\nAnti-freeze\nBatteries\nAshes\nOil\nPaint must be dried with kitty litter and be open!
URL:https://www.rogersvillemo.org/event/city-wide-clean-up-2/
LOCATION:City of Rogersville\, 211 East Center\, Rogersville\, MO\, 65742\, United States
ATTACH;FMTTYPE=image/png:https://www.rogersvillemo.org/wp-content/uploads/2019/04/CITY-WIDE-CLEANUP-2019.png
END:VEVENT
BEGIN:VEVENT
DTSTART;TZID=UTC:20190613T120000
DTEND;TZID=UTC:20190613T200000
DTSTAMP:20260424T152432
CREATED:20190414T201423Z
LAST-MODIFIED:20190414T201642Z
UID:998-1560427200-1560456000@www.rogersvillemo.org
SUMMARY:City Wide Clean Up
DESCRIPTION:Cleanout your house\, basement\, shed\, attic\, carport or whatever you have! The dumpster will be located behind city hall. \nItems not allowed: \n\nHazardous waste\nWhole tires\nYard waste\nAnti-freeze\nBatteries\nAshes\nOil\nPaint must be dried with kitty litter and be open!
URL:https://www.rogersvillemo.org/event/city-wide-clean-up/
LOCATION:City of Rogersville\, 211 East Center\, Rogersville\, MO\, 65742\, United States
ATTACH;FMTTYPE=image/png:https://www.rogersvillemo.org/wp-content/uploads/2019/04/CITY-WIDE-CLEANUP-2019.png
END:VEVENT
BEGIN:VEVENT
DTSTART;TZID=UTC:20190607T080000
DTEND;TZID=UTC:20190608T170000
DTSTAMP:20260424T152432
CREATED:20190414T200942Z
LAST-MODIFIED:20190414T200942Z
UID:995-1559894400-1560013200@www.rogersvillemo.org
SUMMARY:2019 City Wide Garage Sale
DESCRIPTION:Signs posted on light poles and stop signs will be removed.
URL:https://www.rogersvillemo.org/event/2019-city-wide-garage-sale/
LOCATION:City of Rogersville\, 211 East Center\, Rogersville\, MO\, 65742\, United States
ATTACH;FMTTYPE=image/png:https://www.rogersvillemo.org/wp-content/uploads/2019/04/2019-CITY-WIDE-GARAGE-SALE.png
END:VEVENT
BEGIN:VEVENT
DTSTART;VALUE=DATE:20190510
DTEND;VALUE=DATE:20190511
DTSTAMP:20260424T152432
CREATED:20190414T211714Z
LAST-MODIFIED:20190414T211735Z
UID:1021-1557446400-1557532799@www.rogersvillemo.org
SUMMARY:Summer Baseball T-Shirt Deadline
DESCRIPTION:City Parks Department Sponsorships! \nHave your business logo printed on hundreds of t-shirts! \nFor $100 per spot\, per season\, you can advertise on the back of the team shirts for Spring and Fall Soccer\, Summer Ball\, Basketball and Volleyball!  (spaces are limited) \nKids and Coaches shirts! \nOngoing advertising for years to come! \nContact City Hall today!  417-753-2884 ext. 300 or 321 \nDownload Tshirt sponsors sport selection sheet
URL:https://www.rogersvillemo.org/event/summer-baseball-t-shirt-deadline/
LOCATION:City of Rogersville\, 211 East Center\, Rogersville\, MO\, 65742\, United States
ATTACH;FMTTYPE=image/png:https://www.rogersvillemo.org/wp-content/uploads/2019/04/tshirt-deadlines-1.png
END:VEVENT
END:VCALENDAR